BEGIN:VCALENDAR
PRODID:-//AT Content Types//AT Event//EN
VERSION:2.0
METHOD:PUBLISH
BEGIN:VEVENT
DTSTAMP:20260422T112320Z
CREATED:20091130T131431Z
UID:ATEvent-1f1b0088015ef7dce68a27b2a82c193c
LAST-MODIFIED:20091130T162153Z
SUMMARY:RISC Forum
DTSTART:20091207T123000Z
DTEND:20091207T132000Z
DESCRIPTION:Johannes Middeke: "Report on the visit of the University o
 f Waterloo"\; Elena Kartashova: "Nonlinear resonance analysis"
CATEGORIES:Meeting, Talk
CLASS:PUBLIC
END:VEVENT
END:VCALENDAR
