BEGIN:VCALENDAR
PRODID:-//AT Content Types//AT Event//EN
VERSION:2.0
METHOD:PUBLISH
BEGIN:VEVENT
DTSTAMP:20260422T112330Z
CREATED:20091023T111650Z
UID:ATEvent-5fb2673ca5f8700b96a17b70cc811b84
LAST-MODIFIED:20091130T162042Z
SUMMARY:RISC Forum
DTSTART:20091130T123000Z
DTEND:20091130T125000Z
DESCRIPTION:Ralf Hemmecke: Keep your references organized -- A tool yo
 u always wanted
LOCATION:RISC seminar room
CATEGORIES:Meeting, Talk
CLASS:PUBLIC
END:VEVENT
END:VCALENDAR
