BEGIN:VCALENDAR
PRODID:-//AT Content Types//AT Event//EN
VERSION:1.0
BEGIN:VEVENT
DTSTART:20091116T123000Z
DTEND:20091116T125500Z
DCREATED:20091023T111650Z
UID:ATEvent-a662ca8c858d9581b5fa8de38680ddd4
SEQUENCE:0
LAST-MODIFIED:20091023T113812Z
SUMMARY:RISC Forum
DESCRIPTION:Clemens Raab: A parametric version of Risch's algorithm fo
 r computing definite integrals
LOCATION:RISC seminar room
PRIORITY:3
TRANSP:0
END:VEVENT
END:VCALENDAR
