BEGIN:VCALENDAR
PRODID:-//AT Content Types//AT Event//EN
VERSION:1.0
BEGIN:VEVENT
DTSTART:20091109T123000Z
DTEND:20091109T125000Z
DCREATED:20091020T063148Z
UID:ATEvent-70634e7f2aa19aa04b24bb75a90646f9
SEQUENCE:0
LAST-MODIFIED:20091023T114230Z
SUMMARY:RISC-Forum
DESCRIPTION:Muhammad Taimoor Khan: Self-Introduction\; Yanli Huang: Se
 lf-Introduction
LOCATION:RISC seminar room
PRIORITY:3
TRANSP:0
END:VEVENT
END:VCALENDAR
