BEGIN:VCALENDAR
PRODID:-//AT Content Types//AT Event//EN
VERSION:1.0
BEGIN:VEVENT
DTSTART:20091019T113000Z
DTEND:20091019T115000Z
DCREATED:20091013T062208Z
UID:ATEvent-9d28edd8508eda8008ee88bfb5015b3e
SEQUENCE:0
LAST-MODIFIED:20091019T122238Z
SUMMARY:RISC Forum
DESCRIPTION:Celebration: START price won by Manuel Kauers
LOCATION:Seminar room
PRIORITY:3
TRANSP:0
END:VEVENT
END:VCALENDAR
