BEGIN:VCALENDAR
PRODID:-//AT Content Types//AT Event//EN
VERSION:1.0
BEGIN:VEVENT
DTSTART:20091012T113000Z
DTEND:20091012T114500Z
DCREATED:20091006T062057Z
UID:ATEvent-de6a34e041fa533e7ebf1262554ed525
SEQUENCE:0
LAST-MODIFIED:20091013T122331Z
SUMMARY:RISC Forum
DESCRIPTION:Zsuzsanna Sinka: Self-Introduction\; Miroslav Korbelar: Se
 lf-Introduction
LOCATION:Seminar Room
PRIORITY:3
TRANSP:0
END:VEVENT
END:VCALENDAR
