BEGIN:VCALENDAR
PRODID:-//AT Content Types//AT Event//EN
VERSION:2.0
METHOD:PUBLISH
BEGIN:VEVENT
DTSTAMP:20260422T132000Z
CREATED:20090602T124601Z
UID:ATEvent-7533da453d8bf9da210ba114406dba9f
LAST-MODIFIED:20091105T225613Z
SUMMARY:RISC Forum
DTSTART:20090608T113000Z
DTEND:20090608T120000Z
DESCRIPTION:Christoph Koutschan: Computer algebra algorithms for d-fin
 ite and holonomic functions (internal thesis defense)
LOCATION:RISC seminar room
CATEGORIES:Meeting, Talk
CLASS:PUBLIC
END:VEVENT
END:VCALENDAR
