BEGIN:VCALENDAR
PRODID:-//AT Content Types//AT Event//EN
VERSION:1.0
BEGIN:VEVENT
DTSTART:20090525T113000Z
DTEND:20090525T120000Z
DCREATED:20081006T141011Z
UID:ATEvent-aed9cc214f7730178c5c59158449643c
SEQUENCE:0
LAST-MODIFIED:20090525T124456Z
SUMMARY:RISC Forum
DESCRIPTION:Heinrich Rolletschek: Lattice axioms
LOCATION:RISC seminar room
PRIORITY:3
TRANSP:0
END:VEVENT
END:VCALENDAR
