BEGIN:VCALENDAR
PRODID:-//AT Content Types//AT Event//EN
VERSION:2.0
METHOD:PUBLISH
BEGIN:VEVENT
DTSTAMP:20260422T093949Z
CREATED:20090302T151921Z
UID:ATEvent-89bd4aa6f418c88a56a2745ef4232844
LAST-MODIFIED:20090429T093746Z
SUMMARY:RISC Forum
DTSTART:20090511T113000Z
DTEND:20090511T123000Z
DESCRIPTION:Dr. Elias Tsigaridas: (Exact) Algebraic Algorithms and (So
 me) Applications
LOCATION:RISC seminar room
CATEGORIES:Meeting, Talk
CLASS:PUBLIC
END:VEVENT
END:VCALENDAR
