BEGIN:VCALENDAR
PRODID:-//AT Content Types//AT Event//EN
VERSION:2.0
METHOD:PUBLISH
BEGIN:VEVENT
DTSTAMP:20260422T094037Z
CREATED:20081006T141011Z
UID:ATEvent-40a1b1a9a2db214e9eab55e1483a4920
LAST-MODIFIED:20090429T092700Z
SUMMARY:RISC Forum
DTSTART:20090427T113000Z
DTEND:20090427T121000Z
DESCRIPTION:Lena Kartashova: Special functions and Series appearing in
  Nonlinear Resonance Analysis
LOCATION:RISC seminar room
CATEGORIES:Meeting, Talk
CLASS:PUBLIC
END:VEVENT
END:VCALENDAR
