BEGIN:VCALENDAR
PRODID:-//AT Content Types//AT Event//EN
VERSION:1.0
BEGIN:VEVENT
DTSTART:20090420T113000Z
DTEND:20090420T120000Z
DCREATED:20090302T151921Z
UID:ATEvent-3984b4b70780072e6d3bfb64c741f574
SEQUENCE:0
LAST-MODIFIED:20090429T092634Z
SUMMARY:RISC Forum
DESCRIPTION:Anja Korporal: Self-Introduction\;\nSegun Michael Akinwumi
 :  The Journey on Mathematics Skills
LOCATION:RISC seminar room
PRIORITY:3
TRANSP:0
END:VEVENT
END:VCALENDAR
