BEGIN:VCALENDAR
PRODID:-//AT Content Types//AT Event//EN
VERSION:2.0
METHOD:PUBLISH
BEGIN:VEVENT
DTSTAMP:20260422T093955Z
CREATED:20081006T141011Z
UID:ATEvent-2fa37a76cc39e43f3561e187b8a6dadf
LAST-MODIFIED:20090429T092550Z
SUMMARY:RISC Forum
DTSTART:20090323T123000Z
DTEND:20090323T130000Z
DESCRIPTION:Christian Aistleitner: Newsfeeds\;  Ralf Hemmecke: Plone: 
 News and Events
LOCATION:RISC seminar room
CATEGORIES:Meeting, Talk
CLASS:PUBLIC
END:VEVENT
END:VCALENDAR
