BEGIN:VCALENDAR
PRODID:-//AT Content Types//AT Event//EN
VERSION:1.0
BEGIN:VEVENT
DTSTART:20090309T123000Z
DTEND:20090309T131500Z
DCREATED:20081006T141011Z
UID:ATEvent-67f5f95339bef780c79ae5684b3fe8c1
SEQUENCE:0
LAST-MODIFIED:20090429T092453Z
SUMMARY:RISC Forum
DESCRIPTION:Brian Moore: Design of dynamically balanced parallel mecha
 nisms
LOCATION:RISC seminar room
PRIORITY:3
TRANSP:0
END:VEVENT
END:VCALENDAR
