BEGIN:VCALENDAR
PRODID:-//AT Content Types//AT Event//EN
VERSION:1.0
BEGIN:VEVENT
DTSTART:20090112T123000Z
DTEND:20090112T130000Z
DCREATED:20081006T141011Z
UID:ATEvent-dcda663bf6668577ea0f7ddcf3e92f9d
SEQUENCE:0
LAST-MODIFIED:20090429T092331Z
SUMMARY:RISC Forum
DESCRIPTION:Wolfgang Windsteiger: Algorithmic Methods Book (Volume 1)
LOCATION:RISC seminar room
PRIORITY:3
TRANSP:0
END:VEVENT
END:VCALENDAR
